BEGIN:VCALENDAR
PRODID:-
VERSION:2.0
METHOD:PUBLISH
BEGIN:VEVENT
ORGANIZER:MAILTO:
DTSTART:20220324T010000Z
DTEND:20220324T014500Z
LOCATION:BLUE LAB  ART 1  IT & DESIGN  ROOM Front Hall Classroom GREEN LAB (front)
TRANSP:OPAQUE
SEQUENCE:0
UID:HALL2-1542106724
DTSTAMP:20221122T195400Z
DESCRIPTION:Class 12  Lachie Tony Rhys April  Greg
SUMMARY:[Hall Classroom] Line 6/12 Bio/Vis Des/Ent Ind/Drama/Marine T1B3
X-MICROSOFT-CDO-IMPORTANCE:1
CLASS:PUBLIC
PRIORITY:5
END:VEVENT
BEGIN:VEVENT
ORGANIZER:MAILTO:
DTSTART:20220331T010000Z
DTEND:20220331T014500Z
LOCATION:BLUE LAB  ART 1  IT & DESIGN  ROOM Front Hall Classroom GREEN LAB (front)
TRANSP:OPAQUE
SEQUENCE:0
UID:HALL2-1542172267
DTSTAMP:20221122T195400Z
DESCRIPTION:Class 12  Lachie Tony Rhys April  Greg
SUMMARY:[Hall Classroom] Line 6/12 Bio/Vis Des/Ent Ind/Drama/Marine T1B3
X-MICROSOFT-CDO-IMPORTANCE:1
CLASS:PUBLIC
PRIORITY:5
END:VEVENT
BEGIN:VEVENT
ORGANIZER:MAILTO:
DTSTART:20220407T010000Z
DTEND:20220407T014500Z
LOCATION:BLUE LAB  ART 1  IT & DESIGN  ROOM Front Hall Classroom GREEN LAB (front)
TRANSP:OPAQUE
SEQUENCE:0
UID:HALL2-1542237810
DTSTAMP:20221122T195400Z
DESCRIPTION:Class 12  Lachie Tony Rhys April  Greg
SUMMARY:[Hall Classroom] Line 6/12 Bio/Vis Des/Ent Ind/Drama/Marine T1B3
X-MICROSOFT-CDO-IMPORTANCE:1
CLASS:PUBLIC
PRIORITY:5
END:VEVENT
END:VCALENDAR
